BEGIN:VCALENDAR
VERSION:2.0
PRODID:-//Plone.org//NONSGML plone.app.event//EN
X-WR-TIMEZONE:US/Eastern
BEGIN:VEVENT
SUMMARY:Friends Cookie Sale
DTSTART;TZID=US/Eastern:20180210T100000
DTEND;TZID=US/Eastern:20180210T140000
DTSTAMP:20260424T032929Z
UID:774e1d349a604a09b7fe247a89a3a28e@saas_stack_varnish:6080
CATEGORIES:Upcoming Events
CONTACT:231-882-4037\, info@darcylibraryofbeulah.org
CREATED:20180131T180626Z
LAST-MODIFIED:20180131T180630Z
LOCATION:Trailhead Building
URL:https://darcylibraryofbeulah.ploud.net/events/friends-cookie-sale-2
END:VEVENT
BEGIN:VTIMEZONE
TZID:US/Eastern
X-LIC-LOCATION:US/Eastern
BEGIN:STANDARD
DTSTART:20171105T010000
TZNAME:EST
TZOFFSETFROM:-0400
TZOFFSETTO:-0500
END:STANDARD
END:VTIMEZONE
END:VCALENDAR
