BEGIN:VCALENDAR
VERSION:2.0
PRODID:-//Plone.org//NONSGML plone.app.event//EN
X-WR-TIMEZONE:US/Eastern
BEGIN:VEVENT
SUMMARY:Math Club
DTSTART;TZID=US/Eastern:20260423T163000
DTEND;TZID=US/Eastern:20260423T173000
DTSTAMP:20260423T210114Z
UID:1a6b46f9fbcf4bc687b95a0ccacb4584@saas_stack_varnish:6080
RRULE:FREQ=WEEKLY;UNTIL=20260528T000000;INTERVAL=2;BYDAY=TH
EXDATE;TZID=US/Eastern:20251204T000000,20251218T000000,20260101T000000,202
 60326T000000,20260507T000000
CREATED:20250923T165442Z
DESCRIPTION:Lower Elementary Math Fun & Learning
LAST-MODIFIED:20260421T204930Z
URL:https://darcylibraryofbeulah.ploud.net/events/math-club
END:VEVENT
BEGIN:VEVENT
SUMMARY:Needles and Hooks
DTSTART;TZID=US/Eastern:20260424T130000
DTEND;TZID=US/Eastern:20260424T150000
DTSTAMP:20260423T210114Z
UID:9426f00dc40e475db0b2efb52642ca52@saas_stack_varnish:6080
RRULE:FREQ=WEEKLY;UNTIL=20261218T000000;BYDAY=FR
CREATED:20251209T224554Z
LAST-MODIFIED:20260423T185558Z
URL:https://darcylibraryofbeulah.ploud.net/events/friday-knitting-group
END:VEVENT
BEGIN:VEVENT
SUMMARY:Smart Money Kids Read
DTSTART;TZID=US/Eastern:20260425T100000
DTEND;TZID=US/Eastern:20260425T110000
DTSTAMP:20260423T210114Z
UID:e5463790dfb04cd1a9d4ea5a11e1462a@saas_stack_varnish:6080
CREATED:20260409T143720Z
LAST-MODIFIED:20260409T143731Z
URL:https://darcylibraryofbeulah.ploud.net/events/smart-money-kids-read
END:VEVENT
BEGIN:VEVENT
SUMMARY:Mahjong Tuesdays
DTSTART;TZID=US/Eastern:20260428T130000
DTEND;TZID=US/Eastern:20260428T160000
DTSTAMP:20260423T210114Z
UID:8400cb4ae3624571b84498d39f27e4f6@saas_stack_varnish:6080
RRULE:FREQ=WEEKLY;UNTIL=20271231T000000;BYDAY=TU
CREATED:20250408T182807Z
LAST-MODIFIED:20260127T212203Z
URL:https://darcylibraryofbeulah.ploud.net/events/mahjong-tuesdays
END:VEVENT
BEGIN:VEVENT
SUMMARY:Computers with Carol
DTSTART;TZID=US/Eastern:20260430T100000
DTEND;TZID=US/Eastern:20260430T120000
DTSTAMP:20260423T210114Z
UID:863706c7ee434709ae7e9c604043876b@saas_stack_varnish:6080
RRULE:FREQ=WEEKLY;UNTIL=20301231T000000;BYDAY=TH
EXDATE;TZID=US/Eastern:20240704T000000,20251127T000000,20251204T000000,202
 51225T000000,20260101T000000
CONTACT:231-882-4037\, info@darcylibraryofbeulah.org
CREATED:20240419T193911Z
LAST-MODIFIED:20260203T191820Z
URL:https://darcylibraryofbeulah.ploud.net/events/computers-with-carol-4
END:VEVENT
BEGIN:VEVENT
SUMMARY:Darcy Minecraft Guild
DTSTART;TZID=US/Eastern:20260430T163000
DTEND;TZID=US/Eastern:20260430T174500
DTSTAMP:20260423T210114Z
UID:0746fb84bee64567a7fb95a368542248@saas_stack_varnish:6080
RRULE:FREQ=WEEKLY;UNTIL=20260531T000000;INTERVAL=2
EXDATE;TZID=US/Eastern:20251127T000000,20251225T000000
CREATED:20250902T212021Z
LAST-MODIFIED:20251122T154739Z
URL:https://darcylibraryofbeulah.ploud.net/events/darcy-minecraft-guild
END:VEVENT
BEGIN:VEVENT
SUMMARY:Paws and Effect
DTSTART;TZID=US/Eastern:20260502T100000
DTEND;TZID=US/Eastern:20260502T110000
DTSTAMP:20260423T210114Z
UID:75a1d205d35c4fbaade7426437c6e15a@saas_stack_varnish:6080
RRULE:FREQ=DAILY;COUNT=1
CREATED:20260203T193315Z
LAST-MODIFIED:20260421T205947Z
URL:https://darcylibraryofbeulah.ploud.net/events/paws-and-effect-1
END:VEVENT
BEGIN:VEVENT
SUMMARY:Children's Book Week 2026
DTSTART;TZID=US/Eastern:20260504T103000
DTEND;TZID=US/Eastern:20260504T110000
DTSTAMP:20260423T210114Z
UID:f95d3020fc3f4aff8488b4bbd256e7ab@saas_stack_varnish:6080
RRULE:FREQ=DAILY;UNTIL=20260508T000000
CREATED:20260423T185357Z
LAST-MODIFIED:20260423T185449Z
URL:https://darcylibraryofbeulah.ploud.net/events/childrens-book-week-2026
END:VEVENT
BEGIN:VEVENT
SUMMARY:Spanish Storytime
DTSTART;TZID=US/Eastern:20260516T113000
DTEND;TZID=US/Eastern:20260516T123000
DTSTAMP:20260423T210114Z
UID:0c18afe04a464aab8c65d86635412a73@saas_stack_varnish:6080
CREATED:20260421T205621Z
LAST-MODIFIED:20260421T205817Z
URL:https://darcylibraryofbeulah.ploud.net/events/spanish-storytime-3
END:VEVENT
BEGIN:VEVENT
SUMMARY:Board of Trustees Meeting
DTSTART;TZID=US/Eastern:20260519T153000
DTEND;TZID=US/Eastern:20260519T163000
DTSTAMP:20260423T210114Z
UID:4a8f50ad7782400d8dfdbfa4451dba36@saas_stack_varnish:6080
RRULE:FREQ=MONTHLY;COUNT=25;BYDAY=+3TU
CONTACT:231-882-4037\, info@darcylibraryofbeulah.org
CREATED:20240118T183039Z
LAST-MODIFIED:20250130T225254Z
LOCATION:Darcy Library
URL:https://darcylibraryofbeulah.ploud.net/events/board-of-trustees-meetin
 g-8
END:VEVENT
BEGIN:VEVENT
SUMMARY:Friends Meeting
DTSTART;TZID=US/Eastern:20260520T103000
DTEND;TZID=US/Eastern:20260520T113000
DTSTAMP:20260423T210114Z
UID:cd42e7bfe0994fd5810475623c8b34ff@saas_stack_varnish:6080
RRULE:FREQ=MONTHLY;COUNT=20;BYDAY=+3WE
CREATED:20230523T170958Z
LAST-MODIFIED:20241210T205941Z
URL:https://darcylibraryofbeulah.ploud.net/events/friends-meeting-6
END:VEVENT
BEGIN:VEVENT
SUMMARY:Darcy Book Club
DTSTART;TZID=US/Eastern:20260521T103000
DTEND;TZID=US/Eastern:20260521T113000
DTSTAMP:20260423T210114Z
UID:fff9e6e1aed84d73aa571926ecf46c18@saas_stack_varnish:6080
RRULE:FREQ=MONTHLY;UNTIL=20301231T000000;BYDAY=+3TH
RDATE;TZID=US/Eastern:20251204T000000
EXDATE;TZID=US/Eastern:20180920T000000,20251218T000000
CATEGORIES:Upcoming Events
CONTACT:231-882-4037\, info@darcylibraryofbeulah.org
CREATED:20180131T183506Z
LAST-MODIFIED:20251122T155734Z
LOCATION:Darcy Library
URL:https://darcylibraryofbeulah.ploud.net/events/darcy-book-club
END:VEVENT
BEGIN:VTIMEZONE
TZID:US/Eastern
X-LIC-LOCATION:US/Eastern
BEGIN:DAYLIGHT
DTSTART:20260308T030000
TZNAME:EDT
TZOFFSETFROM:-0500
TZOFFSETTO:-0400
END:DAYLIGHT
END:VTIMEZONE
END:VCALENDAR
